BEGIN:VCALENDAR
VERSION:2.0
PRODID:-//ARCS Project - ECPv6.15.20//NONSGML v1.0//EN
CALSCALE:GREGORIAN
METHOD:PUBLISH
X-ORIGINAL-URL:https://arcsproject.org
X-WR-CALDESC:Events for ARCS Project
REFRESH-INTERVAL;VALUE=DURATION:PT1H
X-Robots-Tag:noindex
X-PUBLISHED-TTL:PT1H
BEGIN:VTIMEZONE
TZID:UTC
BEGIN:STANDARD
TZOFFSETFROM:+0000
TZOFFSETTO:+0000
TZNAME:UTC
DTSTART:20240101T000000
END:STANDARD
END:VTIMEZONE
BEGIN:VEVENT
DTSTART;TZID=UTC:20250901T100000
DTEND;TZID=UTC:20260630T180000
DTSTAMP:20260426T030123
CREATED:20230818T043921Z
LAST-MODIFIED:20260326T195815Z
UID:10000016-1756720800-1782842400@arcsproject.org
SUMMARY:One-on-One Personal Learning
DESCRIPTION:Overview\nWe offer private language classes which are tailored to your needs\, whether it’s for travel\, work\, or personal growth. With a focused approach on your goals\, we can help you gain the skills to navigate Romanian more efficiently. Set your pace with flexible scheduling! \nAll levels are welcome! \nWe offer online and in-person instruction in Seattle/University District. \nPayment\nRegister today for either a 5-hour or 10-hour module. \n 
URL:https://arcsproject.org/event/one-to-one-program/
LOCATION:In-person or Online
CATEGORIES:Adult Courses,Child Courses,Education,Fall Courses,Language Classes,Winter Courses
ATTACH;FMTTYPE=image/jpeg:https://arcsproject.org/wp-content/uploads/2023/08/private-class.jpg
END:VEVENT
BEGIN:VEVENT
DTSTART;TZID=UTC:20250901T100000
DTEND;TZID=UTC:20260331T180000
DTSTAMP:20260426T030123
CREATED:20260127T173406Z
LAST-MODIFIED:20260127T173608Z
UID:10000244-1756720800-1774980000@arcsproject.org
SUMMARY:One-on-One Personal Learning
DESCRIPTION:Overview\nWe offer private language classes which are tailored to your needs\, whether it’s for travel\, work\, or personal growth. With a focused approach on your goals\, we can help you gain the skills to navigate Romanian more efficiently. Set your pace with flexible scheduling! \nAll levels are welcome! \nWe offer online and in-person instruction in Seattle/University District. \nPayment\nRegister today for either a 5-hour or 10-hour module. \n 
URL:https://arcsproject.org/event/one-on-one-personal-learning-rb/
LOCATION:In-person or Online
ATTACH;FMTTYPE=image/jpeg:https://arcsproject.org/wp-content/uploads/2023/08/private-class.jpg
END:VEVENT
BEGIN:VEVENT
DTSTART;VALUE=DATE:20260112
DTEND;VALUE=DATE:20260328
DTSTAMP:20260426T030123
CREATED:20251206T142419Z
LAST-MODIFIED:20260305T193922Z
UID:10000236-1768176000-1774655999@arcsproject.org
SUMMARY:ALTA Exam Preparation\, Part 2
DESCRIPTION:Overview\nUnique in the US\, the program “ALTA Exam Preparation”\, launched in 2016 with great success. This program is addressed to students from WA State\, and nationwide\, to help them earn high school credits for their heritage language by taking the ALTA Exam\, and possibly the Global Seal of Biliteracy. \nAfter you take ALTA\, you may also want to take an English proficiency test–STAMP\, which can be taken online\, or if you are a senior in high school and have already taken ACT or SAT–in order to qualify for the Global Seal of Biliteracy. ARCS can help you submit the results of these tests and thus to obtain the Global Seal of Biliteracy. \nThese diplomas will help with their admission process to highly-ranked universities in the US. Our method combines reading comprehension and grammar with interactive communicative methods. Groups of 4-7 students / 60 min\, weekly. This class is Part 2 of 3. \n\n\n \n\n\n\n \n\n\n\n \n\n\n\n \n\n\n\n \n\n\nScheduling\nTime: To Be Determined – We will work with parents and students to find the best times and days that work for you.\nPlease fill out the registration form to let us know your availability.  \n\n\n \n\n\n\n \n\n\n\n \n\n\n\n \n\n\n\n \n\n\nPayment\nTuition for this course includes 10 classes on Zoom (60 minutes each).\nWe offer need-based scholarships. Please email us at contact@arcsproject.org if you would like to be considered. \n\n\n \n\n\n\n \n\n\n\n \n\n\n\n \n\n\n\n \n\n\n 
URL:https://arcsproject.org/event/alta-exam-preparation-part-2/
LOCATION:Online
CATEGORIES:Child Courses,Education,Winter Courses
ATTACH;FMTTYPE=image/png:https://arcsproject.org/wp-content/uploads/2023/08/2.png
END:VEVENT
BEGIN:VEVENT
DTSTART;TZID=UTC:20260112T100000
DTEND;TZID=UTC:20260327T180000
DTSTAMP:20260426T030123
CREATED:20251206T141805Z
LAST-MODIFIED:20260308T021418Z
UID:10000235-1768212000-1774634400@arcsproject.org
SUMMARY:Romanian History II: Part 2
DESCRIPTION:Overview\nThis class is designed for students who took the Romanian History I class and want to continue learning about Romanian history. Part II is dedicated to the twentieth century events: Great Union\, WWI\, WWII\, communism\, and post-communism. Continuing the exploration of modern and contemporary cultural identity\, students will expand their vocabulary\, as well as their reading\, listening\, and writing skills. Conceived as a two-quarter class\, we will focus on Romanian monarchs Carol I\, Ferdinand\, Carol II\, and Mihai. We will also examine the contribution of Romanian Queens – Elizabeth and Marie – to Romanian arts and civic life. The students will be engaged in attractive projects that will help them discover their roots and how they grandparents and parents survived the challenges of history.  \nIntermediate knowledge of Romanian is required. Groups of 4-5 students / 60 min\, weekly sessions \n\n\n \n\n\n\n \n\n\n\n \n\n\n\n \n\n\n\n \n\n\nScheduling\nTime: To Be Determined – We will work with parents and students to find the best times and days that work for you. Please fill out the registration form to let us know your availability.  \n\n\n \n\n\n\n \n\n\n\n \n\n\n\n \n\n\n\n \n\n\nPayment\nTuition for this course includes 10 classes on Zoom (60 minutes each).\nWe offer scholarships to families in need. Please email us at contact@arcsproject.org if you would like to be considered.
URL:https://arcsproject.org/event/romanian-history-ii-part-2/
LOCATION:Online
CATEGORIES:Child Courses,Education,Winter Courses
ATTACH;FMTTYPE=image/png:https://arcsproject.org/wp-content/uploads/2023/08/9.png
END:VEVENT
END:VCALENDAR