BEGIN:VCALENDAR
VERSION:2.0
PRODID:-//ARCS Project - ECPv6.15.20//NONSGML v1.0//EN
CALSCALE:GREGORIAN
METHOD:PUBLISH
X-ORIGINAL-URL:https://arcsproject.org
X-WR-CALDESC:Events for ARCS Project
REFRESH-INTERVAL;VALUE=DURATION:PT1H
X-Robots-Tag:noindex
X-PUBLISHED-TTL:PT1H
BEGIN:VTIMEZONE
TZID:UTC
BEGIN:STANDARD
TZOFFSETFROM:+0000
TZOFFSETTO:+0000
TZNAME:UTC
DTSTART:20220101T000000
END:STANDARD
END:VTIMEZONE
BEGIN:VTIMEZONE
TZID:America/Los_Angeles
BEGIN:DAYLIGHT
TZOFFSETFROM:-0800
TZOFFSETTO:-0700
TZNAME:PDT
DTSTART:20220313T100000
END:DAYLIGHT
BEGIN:STANDARD
TZOFFSETFROM:-0700
TZOFFSETTO:-0800
TZNAME:PST
DTSTART:20221106T090000
END:STANDARD
BEGIN:DAYLIGHT
TZOFFSETFROM:-0800
TZOFFSETTO:-0700
TZNAME:PDT
DTSTART:20230312T100000
END:DAYLIGHT
BEGIN:STANDARD
TZOFFSETFROM:-0700
TZOFFSETTO:-0800
TZNAME:PST
DTSTART:20231105T090000
END:STANDARD
BEGIN:DAYLIGHT
TZOFFSETFROM:-0800
TZOFFSETTO:-0700
TZNAME:PDT
DTSTART:20240310T100000
END:DAYLIGHT
BEGIN:STANDARD
TZOFFSETFROM:-0700
TZOFFSETTO:-0800
TZNAME:PST
DTSTART:20241103T090000
END:STANDARD
END:VTIMEZONE
BEGIN:VEVENT
DTSTART;TZID=UTC:20231002T100000
DTEND;TZID=UTC:20231215T180000
DTSTAMP:20260423T065240
CREATED:20230815T191520Z
LAST-MODIFIED:20240118T201513Z
UID:10000010-1696240800-1702663200@arcsproject.org
SUMMARY:Improve Your Writing\, Reading and Speaking Skills\, Part I
DESCRIPTION:
URL:https://arcsproject.org/event/improve-your-writing-reading-and-speaking-skills-ages-6/
LOCATION:Online
CATEGORIES:Child Courses,Education,Fall Courses,Language Classes
ATTACH;FMTTYPE=image/png:https://arcsproject.org/wp-content/uploads/2023/08/10.png
END:VEVENT
BEGIN:VEVENT
DTSTART;TZID=UTC:20231002T100000
DTEND;TZID=UTC:20231215T180000
DTSTAMP:20260423T065240
CREATED:20230818T035248Z
LAST-MODIFIED:20230906T224823Z
UID:10000013-1696240800-1702663200@arcsproject.org
SUMMARY:Romanian Heroes (Ages 6-9)
DESCRIPTION:
URL:https://arcsproject.org/event/romanian-heroes-ages-6-9/
LOCATION:Online
CATEGORIES:Education,Language Classes
ATTACH;FMTTYPE=image/png:https://arcsproject.org/wp-content/uploads/2023/08/5.png
END:VEVENT
BEGIN:VEVENT
DTSTART;TZID=UTC:20231002T100000
DTEND;TZID=UTC:20231215T180000
DTSTAMP:20260423T065240
CREATED:20230818T040119Z
LAST-MODIFIED:20230907T145439Z
UID:10000014-1696240800-1702663200@arcsproject.org
SUMMARY:Romanian Pioneers (Ages 10-13)
DESCRIPTION:
URL:https://arcsproject.org/event/romanian-explorers-ages-10-13/
LOCATION:Online
CATEGORIES:Education,Language Classes
ATTACH;FMTTYPE=image/png:https://arcsproject.org/wp-content/uploads/2023/08/6.png
END:VEVENT
BEGIN:VEVENT
DTSTART;TZID=UTC:20231002T100000
DTEND;TZID=UTC:20231215T180000
DTSTAMP:20260423T065240
CREATED:20230818T042914Z
LAST-MODIFIED:20231130T190531Z
UID:10000015-1696240800-1702663200@arcsproject.org
SUMMARY:Romanian History: Part I
DESCRIPTION:
URL:https://arcsproject.org/event/romanian-history-part1/
LOCATION:Online
CATEGORIES:Education,Language Classes
ATTACH;FMTTYPE=image/png:https://arcsproject.org/wp-content/uploads/2023/08/8.png
END:VEVENT
BEGIN:VEVENT
DTSTART;TZID=UTC:20231002T100000
DTEND;TZID=UTC:20231215T180000
DTSTAMP:20260423T065240
CREATED:20230825T162637Z
LAST-MODIFIED:20240118T201513Z
UID:10000019-1696240800-1702663200@arcsproject.org
SUMMARY:Romanian History: Part II
DESCRIPTION:
URL:https://arcsproject.org/event/romanian-history-part-ii/
LOCATION:Online
CATEGORIES:Child Courses,Education,Fall Courses,Language Classes
ATTACH;FMTTYPE=image/png:https://arcsproject.org/wp-content/uploads/2023/08/9.png
END:VEVENT
BEGIN:VEVENT
DTSTART;TZID=UTC:20231002T100000
DTEND;TZID=UTC:20240209T180000
DTSTAMP:20260423T065240
CREATED:20230818T031004Z
LAST-MODIFIED:20240118T201512Z
UID:10000012-1696240800-1707501600@arcsproject.org
SUMMARY:Romanian Culture and Civilisation Through Media (Intermediate/Advanced)
DESCRIPTION:
URL:https://arcsproject.org/event/romanian-culture-and-civilisation-through-media-intermediate-advanced/
LOCATION:Online
CATEGORIES:Adult Courses,Education,Fall Courses,Language Classes
ATTACH;FMTTYPE=image/png:https://arcsproject.org/wp-content/uploads/2023/08/4.png
END:VEVENT
BEGIN:VEVENT
DTSTART;TZID=America/Los_Angeles:20231202T193000
DTEND;TZID=America/Los_Angeles:20231202T203000
DTSTAMP:20260423T065240
CREATED:20231121T015341Z
LAST-MODIFIED:20240210T204434Z
UID:10000111-1701545400-1701549000@arcsproject.org
SUMMARY:The Magic of Winter: The Romanian Madrigal Choir Jubilee Tour
DESCRIPTION:ARCS is a proud partner of the Madrigal Choir Jubilee Tour in Seattle!  A decade-long wait is over: after 35 years\, the famous National Chamber Choir “Madrigal - Marin Constantin”\, Romania’s most internationally recognized musical ensemble\, returns to United States for an anniversary tour celebrating the National Day of Romania with special recitals in New York\, Washington\, D.C.\, Chicago\, and Seattle. More details about the tour: www.madrigaltour.com In Seattle\, WA\, the event will take place at the Town Hall Seattle on December 2\, 2023 @ 7:30 PM (Address: 1119 8th Avenue (at Seneca Street) Seattle\, WA 98101) The much-awaited comeback of one of the world's great choral ensembles will display all the Madrigal’s artistic prowess\, evident in the expansive repertoire\, the impeccable musical quality\, and the spectacular stage presence. Anticipating the magic of winter festivities\, the recitals will offer a carefully-crafted program\, featuring Renaissance music\, Romanian and international carols\, and timeless choral compositions. Madrigal Choir’s American tour is organized by the Romanian Embassy to the U.S. together with the Romanian Cultural Institute in New York and with the generous support of the Romanian Ministry of Culture and several sponsors from Romania: Transylvania Bank\, Vodafone\, ING\, UiPath and Fan Courier\, and special community partner: American Romanian Cultural Society – ARCS. The event is free but registration is required. Register Here.
URL:https://arcsproject.org/event/the-magic-of-winter-the-romanian-madrigal-choir-jubilee-tour/
LOCATION:Town Hall Seattle\, 1119 8th Ave\, Seattle\, WA\, 98101\, United States
CATEGORIES:Heritage,Stage
ATTACH;FMTTYPE=image/jpeg:https://arcsproject.org/wp-content/uploads/2023/11/Event-fb-Seattle-Madrigal-1.jpg
END:VEVENT
BEGIN:VEVENT
DTSTART;TZID=UTC:20231209T100000
DTEND;TZID=UTC:20231209T140000
DTSTAMP:20260423T065240
CREATED:20231130T195616Z
LAST-MODIFIED:20231130T210504Z
UID:10000113-1702116000-1702130400@arcsproject.org
SUMMARY:European Holiday Market
DESCRIPTION:Join us December 9\, 10am-2pm\, at the European Holiday Market for festive food\, merchandise\, stories\, and music. We look forward to representing Romania alongside Teinnovadora\, importer of quality Romanian wines\, and join other European communities. If you're looking for unique holiday gifts\, you don't want to miss this! Learn more here. PROGRAM10:15 AM French and English Christmas Music presented by Ladies Musical Club of SeattleWith Dhanushi Wijeyakulasuriya\, sopranoSusan Payne O'Brien\, sopranoPeter Nelson-King\, piano 11:15 AM Storytime in French with Sophie 11:45 AM Santa Claus' Visit & Gifts 12:30 PM Holiday Piano Music presented by Ladies Musical Club of SeattleWith Monica Kessler\, piano Saturday\, December 9 |10am-2pmCHAPEL OF THE GOOD SHEPHERD CENTER4649 Sunnyside Ave N\, Seattle\, WA 98103
URL:https://arcsproject.org/event/european-holiday-market/
LOCATION:WA
CATEGORIES:Heritage
ATTACH;FMTTYPE=image/jpeg:https://arcsproject.org/wp-content/uploads/2023/11/393218071_1078344486822487_8308207808152066925_n-2.jpg
END:VEVENT
END:VCALENDAR