BEGIN:VCALENDAR
VERSION:2.0
PRODID:-//ARCS Project - ECPv6.15.20//NONSGML v1.0//EN
CALSCALE:GREGORIAN
METHOD:PUBLISH
X-ORIGINAL-URL:https://arcsproject.org
X-WR-CALDESC:Events for ARCS Project
REFRESH-INTERVAL;VALUE=DURATION:PT1H
X-Robots-Tag:noindex
X-PUBLISHED-TTL:PT1H
BEGIN:VTIMEZONE
TZID:UTC
BEGIN:STANDARD
TZOFFSETFROM:+0000
TZOFFSETTO:+0000
TZNAME:UTC
DTSTART:20170101T000000
END:STANDARD
END:VTIMEZONE
BEGIN:VEVENT
DTSTART;VALUE=DATE:20180602
DTEND;VALUE=DATE:20180603
DTSTAMP:20260423T171854
CREATED:20230907T042106Z
LAST-MODIFIED:20250113T122003Z
UID:10000099-1527897600-1527983999@arcsproject.org
SUMMARY:Club Piticot
DESCRIPTION:Free Kids ages 3-13 Let’s get together to celebrate International Children’s Day! Event in Romanian.
URL:https://arcsproject.org/event/club-piticot/
LOCATION:Redmond Library\, 15990 NE 85th St\, Redmond\, WA\, 98052\, United States
CATEGORIES:Education
ATTACH;FMTTYPE=image/webp:https://arcsproject.org/wp-content/uploads/2023/09/Club-Piticot2_HIgOCmG_oot8ea.webp
END:VEVENT
END:VCALENDAR